BEGIN:VCALENDAR
VERSION:2.0
PRODID:-//Prodi Ekonomi Islam - ECPv4.6.10.1//NONSGML v1.0//EN
CALSCALE:GREGORIAN
METHOD:PUBLISH
X-WR-CALNAME:Prodi Ekonomi Islam
X-ORIGINAL-URL:https://eis-feb.unja.ac.id
X-WR-CALDESC:Events for Prodi Ekonomi Islam
BEGIN:VEVENT
DTSTART;TZID=UTC+0:20161210T080000
DTEND;TZID=UTC+0:20161210T170000
DTSTAMP:20260420T013031
CREATED:20160718T104508Z
LAST-MODIFIED:20160718T104508Z
UID:9006-1481356800-1481389200@eis-feb.unja.ac.id
SUMMARY:National honor society  induction ceremony
DESCRIPTION:Humans are creative beings. This text will not appear in a consistent order. Your design looks awesome by the way. After Hours Programming created this application. Default text creates the illusion of real text. \n
URL:https://eis-feb.unja.ac.id/index.php/event/national-honor-society-induction-ceremony-2/
LOCATION:35 Madison street\, New York\, 1\, United Kingdom
CATEGORIES:high school
END:VEVENT
END:VCALENDAR