BEGIN:VCALENDAR
VERSION:2.0
PRODID:-//Prodi Ekonomi Islam - ECPv4.6.10.1//NONSGML v1.0//EN
CALSCALE:GREGORIAN
METHOD:PUBLISH
X-WR-CALNAME:Prodi Ekonomi Islam
X-ORIGINAL-URL:https://eis-feb.unja.ac.id
X-WR-CALDESC:Events for Prodi Ekonomi Islam
BEGIN:VEVENT
DTSTART;TZID=UTC+0:20170501T053000
DTEND;TZID=UTC+0:20170731T183000
DTSTAMP:20260421T145539
CREATED:20160228T101315Z
LAST-MODIFIED:20160228T101315Z
UID:112-1493616600-1501525800@eis-feb.unja.ac.id
SUMMARY:Spring 2016 Graduation Show Preview In Madison School
DESCRIPTION:Humans are creative beings. This text will not appear in a consistent order. Your design looks awesome by the way. After Hours Programming created this application. Default text creates the illusion of real text. \n
URL:https://eis-feb.unja.ac.id/index.php/event/spring-2016-graduation-show-preview-in-madison-school/
LOCATION:130 ohua ave. Honolulu\, Hi 96518 US Saint High school
CATEGORIES:Workshop
ATTACH;FMTTYPE=image/jpeg:https://eis-feb.unja.ac.id/wp-content/uploads/2016/02/single-event-01.jpg
ORGANIZER;CN="University":MAILTO:info@webnus.biz
END:VEVENT
END:VCALENDAR